BEGIN:VCALENDAR
VERSION:2.0
PRODID:-//Técnica Fase, S.A. - ECPv5.10.0//NONSGML v1.0//EN
CALSCALE:GREGORIAN
METHOD:PUBLISH
X-WR-CALNAME:Técnica Fase, S.A.
X-ORIGINAL-URL:http://www.tecnicafase.com
X-WR-CALDESC:Eventos para Técnica Fase, S.A.
BEGIN:VTIMEZONE
TZID:America/Caracas
BEGIN:STANDARD
TZOFFSETFROM:-0400
TZOFFSETTO:-0400
TZNAME:-04
DTSTART:20200101T000000
END:STANDARD
END:VTIMEZONE
BEGIN:VEVENT
DTSTART;VALUE=DATE:20200420
DTEND;VALUE=DATE:20200424
DTSTAMP:20260422T233256
CREATED:20180712T015916Z
LAST-MODIFIED:20180712T015916Z
UID:603-1587340800-1587686399@www.tecnicafase.com
SUMMARY:2020 IEEE PES T&D Conference and Exposition
DESCRIPTION:
URL:http://www.tecnicafase.com/evento/2020-ieee-pes-td-conference-and-exposition/
LOCATION:McCormick Place\, 2301 S King Dr\, Chicago\, 60616\, United States
CATEGORIES:IEEE PES T&D
ATTACH;FMTTYPE=image/jpeg:http://www.tecnicafase.com/wp-content/uploads/2018/07/IEEE0420_Logo.jpg
ORGANIZER;CN="IEEE%20Power%20%26%20Energy%20Society":MAILTO:pes@ieee.org
END:VEVENT
END:VCALENDAR